BEGIN:VCALENDAR
VERSION:2.0
PRODID:-//The Resilient Veteran - ECPv6.15.16//NONSGML v1.0//EN
CALSCALE:GREGORIAN
METHOD:PUBLISH
X-ORIGINAL-URL:https://www.theresilientveteran.org
X-WR-CALDESC:Events for The Resilient Veteran
REFRESH-INTERVAL;VALUE=DURATION:PT1H
X-Robots-Tag:noindex
X-PUBLISHED-TTL:PT1H
BEGIN:VTIMEZONE
TZID:America/New_York
BEGIN:DAYLIGHT
TZOFFSETFROM:-0500
TZOFFSETTO:-0400
TZNAME:EDT
DTSTART:20220313T070000
END:DAYLIGHT
BEGIN:STANDARD
TZOFFSETFROM:-0400
TZOFFSETTO:-0500
TZNAME:EST
DTSTART:20221106T060000
END:STANDARD
BEGIN:DAYLIGHT
TZOFFSETFROM:-0500
TZOFFSETTO:-0400
TZNAME:EDT
DTSTART:20230312T070000
END:DAYLIGHT
BEGIN:STANDARD
TZOFFSETFROM:-0400
TZOFFSETTO:-0500
TZNAME:EST
DTSTART:20231105T060000
END:STANDARD
BEGIN:DAYLIGHT
TZOFFSETFROM:-0500
TZOFFSETTO:-0400
TZNAME:EDT
DTSTART:20240310T070000
END:DAYLIGHT
BEGIN:STANDARD
TZOFFSETFROM:-0400
TZOFFSETTO:-0500
TZNAME:EST
DTSTART:20241103T060000
END:STANDARD
END:VTIMEZONE
BEGIN:VEVENT
DTSTART;TZID=America/New_York:20231113T190000
DTEND;TZID=America/New_York:20231113T200000
DTSTAMP:20260422T034532
CREATED:20231109T140841Z
LAST-MODIFIED:20231109T140841Z
UID:2377-1699902000-1699905600@www.theresilientveteran.org
SUMMARY:Addressing Chronic Pain In The Veteran Community
DESCRIPTION:Webinar Date: Nov. 13\, 2023\, 7 p.m.\nQuestions? Contact Adeline Hatfield\, at 330-571-1348 or email adeline@militaryvetsofamerica.org \nJoin Military Veterans of America for our webinar with health specialist Dr. Shenika Vilton\, MD. She will discuss the latest advancements in the treatment of chronic pain\, offering insights into both pharmacological and non-pharmacological approaches. We will also shed light on the importance of health advocacy for veterans and discuss strategies to improve access to pain management resources\, reduce stigma\, and foster a supportive environment for our veterans. \nRegister online.
URL:https://www.theresilientveteran.org/event/2023-11-13-700p/addressing-chronic-pain-in-the-veteran-community/
CATEGORIES:Professional Development,Virtual
ATTACH;FMTTYPE=image/png:https://www.theresilientveteran.org/wp-content/uploads/2023/11/AF1QipOdd3zz96wQpkYJbhMD0VSKmJGKdMv6ugzcucKqw763-h190.png
END:VEVENT
END:VCALENDAR