BEGIN:VCALENDAR
VERSION:2.0
PRODID:-//The Resilient Veteran - ECPv6.15.16//NONSGML v1.0//EN
CALSCALE:GREGORIAN
METHOD:PUBLISH
X-WR-CALNAME:The Resilient Veteran
X-ORIGINAL-URL:https://www.theresilientveteran.org
X-WR-CALDESC:Events for The Resilient Veteran
REFRESH-INTERVAL;VALUE=DURATION:PT1H
X-Robots-Tag:noindex
X-PUBLISHED-TTL:PT1H
BEGIN:VTIMEZONE
TZID:America/New_York
BEGIN:DAYLIGHT
TZOFFSETFROM:-0500
TZOFFSETTO:-0400
TZNAME:EDT
DTSTART:20230312T070000
END:DAYLIGHT
BEGIN:STANDARD
TZOFFSETFROM:-0400
TZOFFSETTO:-0500
TZNAME:EST
DTSTART:20231105T060000
END:STANDARD
BEGIN:DAYLIGHT
TZOFFSETFROM:-0500
TZOFFSETTO:-0400
TZNAME:EDT
DTSTART:20240310T070000
END:DAYLIGHT
BEGIN:STANDARD
TZOFFSETFROM:-0400
TZOFFSETTO:-0500
TZNAME:EST
DTSTART:20241103T060000
END:STANDARD
BEGIN:DAYLIGHT
TZOFFSETFROM:-0500
TZOFFSETTO:-0400
TZNAME:EDT
DTSTART:20250309T070000
END:DAYLIGHT
BEGIN:STANDARD
TZOFFSETFROM:-0400
TZOFFSETTO:-0500
TZNAME:EST
DTSTART:20251102T060000
END:STANDARD
END:VTIMEZONE
BEGIN:VEVENT
DTSTART;TZID=America/New_York:20240214T140000
DTEND;TZID=America/New_York:20240214T153000
DTSTAMP:20260420T023831
CREATED:20240125T151521Z
LAST-MODIFIED:20240125T151602Z
UID:2571-1707919200-1707924600@www.theresilientveteran.org
SUMMARY:Ketamine for Depression and Suicide Prevention in VA
DESCRIPTION:Ketamine for Depression and Suicide Prevention in VA\nFebruary 14 2024 2:00 ET Eric Hermes\, MD\nVisit https://www.mirecc.va.gov/visn19/cpg/webinar.asp for information and to register. \n\nTreatment-resistant depression and suicidality are common and interrelated problems for Veterans. Ketamine is a dissociative anesthetic drug that has recently been investigated as a treatment option. Eric Hermes\, MD\, will review the history and role of ketamine in the treatment of depression and suicidality and discuss the implementation of ketamine delivery programs across VA. This webinar will improve participant’s understanding of the role of ketamine in VA mental health treatment. \n\nFollowing this live webinar\, particpants will be able to: \n\nDefine treatment-resistant depression and its approximate prevalence among Veterans using VA services.\nIdentify the role of ketamine in the treatment of Veterans with depression and suicidality in VA.\nDescribe the deployment of ketamine and other somatic treatment programs across VA.\n\nEric Hermes\, MD\nDr. Hermes is the Director for Psychopharmacology and Somatic Treatments in the VA Office of Mental Health and Suicide Prevention. He is a psychiatrist and associate professor in the Department of Psychiatry at the Yale University School of Medicine\, where he studies implementation and quality improvement in mental health services.
URL:https://www.theresilientveteran.org/event/2024-02-14-200p/ketamine-for-depression-and-suicide-prevention-in-va/
CATEGORIES:Professional Development,Virtual
ATTACH;FMTTYPE=image/jpeg:https://www.theresilientveteran.org/wp-content/uploads/2021/07/VA-health.jpg
END:VEVENT
END:VCALENDAR