BEGIN:VCALENDAR
VERSION:2.0
PRODID:-//The Resilient Veteran - ECPv6.15.16//NONSGML v1.0//EN
CALSCALE:GREGORIAN
METHOD:PUBLISH
X-WR-CALNAME:The Resilient Veteran
X-ORIGINAL-URL:https://www.theresilientveteran.org
X-WR-CALDESC:Events for The Resilient Veteran
REFRESH-INTERVAL;VALUE=DURATION:PT1H
X-Robots-Tag:noindex
X-PUBLISHED-TTL:PT1H
BEGIN:VTIMEZONE
TZID:America/New_York
BEGIN:DAYLIGHT
TZOFFSETFROM:-0500
TZOFFSETTO:-0400
TZNAME:EDT
DTSTART:20210314T070000
END:DAYLIGHT
BEGIN:STANDARD
TZOFFSETFROM:-0400
TZOFFSETTO:-0500
TZNAME:EST
DTSTART:20211107T060000
END:STANDARD
BEGIN:DAYLIGHT
TZOFFSETFROM:-0500
TZOFFSETTO:-0400
TZNAME:EDT
DTSTART:20220313T070000
END:DAYLIGHT
BEGIN:STANDARD
TZOFFSETFROM:-0400
TZOFFSETTO:-0500
TZNAME:EST
DTSTART:20221106T060000
END:STANDARD
BEGIN:DAYLIGHT
TZOFFSETFROM:-0500
TZOFFSETTO:-0400
TZNAME:EDT
DTSTART:20230312T070000
END:DAYLIGHT
BEGIN:STANDARD
TZOFFSETFROM:-0400
TZOFFSETTO:-0500
TZNAME:EST
DTSTART:20231105T060000
END:STANDARD
END:VTIMEZONE
BEGIN:VEVENT
DTSTART;TZID=America/New_York:20220125T120000
DTEND;TZID=America/New_York:20220125T130000
DTSTAMP:20260424T091632
CREATED:20220111T225140Z
LAST-MODIFIED:20220217T233658Z
UID:555-1643112000-1643115600@www.theresilientveteran.org
SUMMARY:Partnering with Firearm Retailers to Promote Temporary Out-of-Home Firearm Storage
DESCRIPTION:Partnering with Firearm Retailers to Promote Temporary Out-of-Home Firearm Storage\nJanuary 25\,  2022  12:00PM ET\nGiven that a majority of suicides involve a firearm\, suicide prevention efforts include strategies to create “time and distance” between a person and a loaded firearm. Several state-based coalitions have created online “storage maps” of firearm retailers and law enforcement agencies willing to consider requests for temporary\, voluntary gun storage; however\, little is known about the lasting outcomes of these initiatives. This presentation describes preliminary findings from The Armory Project\, a VA community partnership with 3 firearm retailers to promote lethal means safety messaging and temporary storage options for suicide prevention. The presenters will discuss lessons learned\, including successful strategies for building VA-community collaboration and facilitators discussing mental health and suicide prevention in gun shops. \nGala True\, Ph.D.\, is an Investigator with the South Central Mental Illness Research\, Education\, and Clinical Center (MIRECC) at the Southeast Louisiana Veterans Health Care System and Associate Professor in the Section on Community and Population Medicine at Louisiana State University School of Medicine. Dr. True’s research focuses on improving access to care and the health of individuals and communities through patient-centered and community-engaged research approaches. \nCaleb Morse is an 11-year Army combat veteran with multiple deployments in support of Operation Iraqi Freedom. A Louisiana native\, Caleb is the owner and operator of the Rustic Renegade\, a firearms retail shop in Lafayette that also offers coffee\, gifts\, and a gathering place for veterans and firearms enthusiasts. Caleb is also part of The Armory Project offering out-of-home storage options in his gun shop. \nJoseph Constans\, Ph.D.\, serves as the Senior Program Manager for Suicide Prevention in the Office of Research and Development\, VHA). He has had a 28-year career in VA. For the past 10-years\, his research has concerned suicide and homicide prevention with a particular interest in studying firearm attitudes in vulnerable populations. His research program has been supported with funding from VA CSRD\, VA HSRD\, CDC\, and DoD. \nRegister online for this virtual event. \nPresenters: Gala True\, Ph.D.Mr. Caleb Morse and Joseph Constans\, Ph.D. \nQuestions?\nChristie Machan\, LCSW VA Rocky Mountain MIRECCChristie.Machan@va.gov
URL:https://www.theresilientveteran.org/event/2022-01-25-1200p/partnering-with-firearm-retailers-to-promote-temporary-out-of-home-firearm-storage/
CATEGORIES:Panel Discussion,Professional Development,Virtual
ATTACH;FMTTYPE=image/png:https://www.theresilientveteran.org/wp-content/uploads/2022/01/rmmirecc-cpg-webinar-masthead-dark_crop.png
END:VEVENT
END:VCALENDAR