BEGIN:VCALENDAR
VERSION:2.0
PRODID:-//The Resilient Veteran - ECPv6.15.16//NONSGML v1.0//EN
CALSCALE:GREGORIAN
METHOD:PUBLISH
X-WR-CALNAME:The Resilient Veteran
X-ORIGINAL-URL:https://www.theresilientveteran.org
X-WR-CALDESC:Events for The Resilient Veteran
REFRESH-INTERVAL;VALUE=DURATION:PT1H
X-Robots-Tag:noindex
X-PUBLISHED-TTL:PT1H
BEGIN:VTIMEZONE
TZID:America/New_York
BEGIN:DAYLIGHT
TZOFFSETFROM:-0500
TZOFFSETTO:-0400
TZNAME:EDT
DTSTART:20210314T070000
END:DAYLIGHT
BEGIN:STANDARD
TZOFFSETFROM:-0400
TZOFFSETTO:-0500
TZNAME:EST
DTSTART:20211107T060000
END:STANDARD
BEGIN:DAYLIGHT
TZOFFSETFROM:-0500
TZOFFSETTO:-0400
TZNAME:EDT
DTSTART:20220313T070000
END:DAYLIGHT
BEGIN:STANDARD
TZOFFSETFROM:-0400
TZOFFSETTO:-0500
TZNAME:EST
DTSTART:20221106T060000
END:STANDARD
BEGIN:DAYLIGHT
TZOFFSETFROM:-0500
TZOFFSETTO:-0400
TZNAME:EDT
DTSTART:20230312T070000
END:DAYLIGHT
BEGIN:STANDARD
TZOFFSETFROM:-0400
TZOFFSETTO:-0500
TZNAME:EST
DTSTART:20231105T060000
END:STANDARD
END:VTIMEZONE
BEGIN:VEVENT
DTSTART;TZID=America/New_York:20220512T083000
DTEND;TZID=America/New_York:20220512T170000
DTSTAMP:20260424T035311
CREATED:20220427T183009Z
LAST-MODIFIED:20220427T183009Z
UID:897-1652344200-1652374800@www.theresilientveteran.org
SUMMARY:Westmoreland County Veterans Conference 2022
DESCRIPTION:Calling all Professionals who work with Veterans! \nCome learn about resources for Veterans and hear from our Keynote Speaker\, Brandon Rumbaugh! \nPlease download a pdf of the event and share with your networks. \nMay 12\, 2022\n8:30 AM to 5:00 PM\nWestmoreland County Community College-Student Achievement Center \n6 Social Work and PCB Credits-Pending are being offered \nVendor Tables with Veteran Resources \nPlease register online to attend this event.
URL:https://www.theresilientveteran.org/event/2022-05-12-830a/westmoreland-county-veterans-conference-2022/
CATEGORIES:In-person,Panel Discussion,Professional Development
ATTACH;FMTTYPE=image/jpeg:https://www.theresilientveteran.org/wp-content/uploads/2022/04/Westmoreland-County-conference.jpg
END:VEVENT
BEGIN:VEVENT
DTSTART;TZID=America/New_York:20220512T100000
DTEND;TZID=America/New_York:20220512T120000
DTSTAMP:20260424T035311
CREATED:20220328T184224Z
LAST-MODIFIED:20220328T184519Z
UID:807-1652349600-1652356800@www.theresilientveteran.org
SUMMARY:Erie VA Virtual Moral Injury and Suicide Prevention Seminar
DESCRIPTION:The Erie VA Medical Center Chaplain Service invites regional clergy\, spiritual workers\, and lay leaders with a passion for Veterans to participate in its Virtual Moral Injury and Suicide Prevention Seminar. \nPresenters Dr. J. Irene Harris (nationally recognized expert in the treatment of Moral Injury) and Brandon Wiley\, LPC will aid participants in: \n• Understanding suicide prevention and moral injury \n• Recognizing traits of suicide risk and spiritual distress \n• Identifying paths for wellness and spiritual strengths to help Veterans cope \nThe Department of Veterans Affairs defines moral injury as: \n• In traumatic or unusually stressful circumstances\, people may perpetrate\, fail to prevent\, or witness events that contradict deeply held moral beliefs and expectations \n• The distressing psychological\, behavioral\, social\, and sometimes spiritual aftermath of exposure to such events \n• Moral injury can occur in response to acting or witnessing behaviors that go against an individual’s values and moral beliefs \nPlease join us for this important first step in providing vital care and support to Veterans.  \nThe first ten registrants who attend the entire seminar will receive a $25 gift card donated by the Erie VA Behavioral Health Council. \nRegister online through EventBrite.
URL:https://www.theresilientveteran.org/event/2022-05-12-1000a/erie-va-virtual-moral-injury-and-suicide-prevention-seminar/
CATEGORIES:Panel Discussion,Professional Development,Virtual
ATTACH;FMTTYPE=image/jpeg:https://www.theresilientveteran.org/wp-content/uploads/2022/03/Erie-Moral-Injury-Seminar.jpg
END:VEVENT
BEGIN:VEVENT
DTSTART;TZID=America/New_York:20220520T140000
DTEND;TZID=America/New_York:20220520T160000
DTSTAMP:20260424T035311
CREATED:20220427T181526Z
LAST-MODIFIED:20220427T181526Z
UID:894-1653055200-1653062400@www.theresilientveteran.org
SUMMARY:2022 VA Research Symposium
DESCRIPTION:In observance of National VA Research Week\, VA’s Office of Research and Development is hosting an online symposium to highlight the work of four groundbreaking VA investigators. Each has been recognized for outstanding research that has advanced knowledge in their fields and improved the lives of Veterans and others. The awardees are Dr. Leigh Hochberg\, VA Providence Health Care System; Dr. Louis Dell’Italia\, Birmingham VA Health Care System; Dr. Donna Washington\, Greater Los Angeles Health Care System; and Dr. Robert Bonomo\, Louis Stokes Cleveland VA Medical Center. \nRegister online to attend this free\, virtual event.
URL:https://www.theresilientveteran.org/event/2022-05-20-200p/2022-va-research-symposium/
CATEGORIES:Panel Discussion,Virtual
ATTACH;FMTTYPE=image/png:https://www.theresilientveteran.org/wp-content/uploads/2022/04/RW2022_Web_banner_500x200-03.png
END:VEVENT
BEGIN:VEVENT
DTSTART;TZID=America/New_York:20220524T080000
DTEND;TZID=America/New_York:20220524T120000
DTSTAMP:20260424T035311
CREATED:20220406T135605Z
LAST-MODIFIED:20220406T140025Z
UID:850-1653379200-1653393600@www.theresilientveteran.org
SUMMARY:PA CARES Training Summit 2022
DESCRIPTION:PA CARES Training Summit 2022 \nThis event was planned in collaboration with the PA Cares Military Task Force. \nDate: May 24\, 2022\nTime: 8:00 a.m. – 12:00 p.m.\nLocation: Virtual\nCost: Free \nThis half day training event will focus on considerations that are needed to promote wellness within the lives of service members\, veterans\, and their families. Selected topics include: military culture\, veteran wellness\, veteran program funding and benefits\, Guard/Reservist support programs\, resources available for the SM/Veteran population reviewed through an interactive panel dialogue\, and federal\, state\, county and community programs. The audience will have opportunities to engage presenters throughout the session. As a result of this training\, the participants will be able to: \n\nDistinguish and identify military culture nuances that will promote a better rapport when providing services to the SM/Veteran population.\nRecognize various challenges faced by active\, reserve and guard service members when seeking benefits and resources across Pennsylvania.\nDiscuss mental health/behavioral health challenges\, programs and resources offered by the U.S. Dept. of Veterans Affairs\, PA Dept. of Military and Veterans Affairs\, as well as other state and local agencies\, and the advocacy efforts to promote wellness and coordination of services.\nDescribe PA VET Connect resource program\, the Veteran Trust Fund\, grant application process\, and examples of recipients/resources provided.\nDescribe PA National Guard psychological programs\, resources and procedures\, to support Guard\, and Reservists throughout their careers.\nList and identify county\, state\, and federal programs and resources available to Pennsylvania’s SM/Veteran population and their families.\n\nAttendance and completion certificates will be awarded in the amount of 4.0 hours. \nYou must set up a TRAIN PA account to register. Once you have logged in\, the event can be found at https://www.train.org/pa/course/1102371/live_event \nNo registrations accepted after May 19\, 2022.\nNo registrations accepted by phone.\nRegistrations are limited to the first 300 applicants. \nDownload the flyer for more information.
URL:https://www.theresilientveteran.org/event/2022-05-24-800a/pa-cares-training-summit-2022/
CATEGORIES:Panel Discussion,Virtual
ATTACH;FMTTYPE=image/png:https://www.theresilientveteran.org/wp-content/uploads/2022/04/Document.png
END:VEVENT
END:VCALENDAR