BEGIN:VCALENDAR
VERSION:2.0
PRODID:-//The Resilient Veteran - ECPv6.15.16//NONSGML v1.0//EN
CALSCALE:GREGORIAN
METHOD:PUBLISH
X-ORIGINAL-URL:https://www.theresilientveteran.org
X-WR-CALDESC:Events for The Resilient Veteran
REFRESH-INTERVAL;VALUE=DURATION:PT1H
X-Robots-Tag:noindex
X-PUBLISHED-TTL:PT1H
BEGIN:VTIMEZONE
TZID:America/New_York
BEGIN:DAYLIGHT
TZOFFSETFROM:-0500
TZOFFSETTO:-0400
TZNAME:EDT
DTSTART:20210314T070000
END:DAYLIGHT
BEGIN:STANDARD
TZOFFSETFROM:-0400
TZOFFSETTO:-0500
TZNAME:EST
DTSTART:20211107T060000
END:STANDARD
BEGIN:DAYLIGHT
TZOFFSETFROM:-0500
TZOFFSETTO:-0400
TZNAME:EDT
DTSTART:20220313T070000
END:DAYLIGHT
BEGIN:STANDARD
TZOFFSETFROM:-0400
TZOFFSETTO:-0500
TZNAME:EST
DTSTART:20221106T060000
END:STANDARD
BEGIN:DAYLIGHT
TZOFFSETFROM:-0500
TZOFFSETTO:-0400
TZNAME:EDT
DTSTART:20230312T070000
END:DAYLIGHT
BEGIN:STANDARD
TZOFFSETFROM:-0400
TZOFFSETTO:-0500
TZNAME:EST
DTSTART:20231105T060000
END:STANDARD
END:VTIMEZONE
BEGIN:VEVENT
DTSTART;TZID=America/New_York:20220810T140000
DTEND;TZID=America/New_York:20220810T170000
DTSTAMP:20260423T235646
CREATED:20220713T192920Z
LAST-MODIFIED:20220713T193011Z
UID:1097-1660140000-1660150800@www.theresilientveteran.org
SUMMARY:Suicide Prevention in Veterans With Substance Use Disorders
DESCRIPTION:This live\, knowledge-based webinar will address challenges in assessing individuals with concurrent substance use and suicide risk\, and it will offer treatment recommendations. \n\n\nDate: Aug. 10 at 2 p.m. ET \nLocation: VHA TRAIN \nAccess Links: Non-VA employees click here. VA employees click here. \nAudience: Physicians\, nurses\, counselors\, psychologists\, social workers and pharmacists \nModality: Virtual conference (webinar) \nCredit/hours: 1 \nAccreditations: ACCME\, ACCME-NP\, ACPE\, ANCC\, APA\, ASWB\, JAIPCE\, NBCC\, NYSED-P\, NYSED SW \nQuestions?: If you require assistance\, please contact the VHA TRAIN Help Desk by email at VHATRAIN@va.gov.
URL:https://www.theresilientveteran.org/event/2022-08-10-200p/suicide-prevention-in-veterans-with-substance-use-disorders/
CATEGORIES:Panel Discussion,Professional Development,Virtual
ATTACH;FMTTYPE=image/jpeg:https://www.theresilientveteran.org/wp-content/uploads/2022/07/VHA-Train-logo.jpg
END:VEVENT
BEGIN:VEVENT
DTSTART;VALUE=DATE:20220819
DTEND;VALUE=DATE:20220822
DTSTAMP:20260423T235646
CREATED:20220809T184110Z
LAST-MODIFIED:20220809T184110Z
UID:1161-1660867200-1661126399@www.theresilientveteran.org
SUMMARY:2022 Suicide Prevention Summit | Mental Health Academy
DESCRIPTION:Mental Health Academy’s 2022 Suicide Prevention Summit | Mental Health Academy \n\nMental Health Academy (MHA) are collaborating with the American Counseling Association (ACA)\, American Association of Suicidology (AAS)\, National Board for Certified Counselors & Associates (NBCC) and the Canadian Counselling and Psychotherapy Association (CCPA) to bring you the 2022 Suicide Prevention Summit. \nThe purpose of this Summit is to equip practicing mental health professionals with the most up-to-date\, advanced knowledge and treatment options on suicide prevention. To achieve that\, we’ve assembled 13 highly respected experts on suicide into one online specialized Summit. \n\n\nOver 3 days\, August 19-21\, you’ll have free access to all Summit sessions\, live (via webinar). You will then have on-demand streaming access to video recordings (see registration form below for further details). \nOne of the most powerful resources we have to reduce suicide is our frontline mental health workforce. We believe that by providing mental health practitioners with global best-practice know-how and skills\, we can tangibly reduce suicide rates in North America and the world. \nWe see our role as bringing global best-practice education to practitioners. Your role is taking the time to learn and apply. As we endeavor to save valuable lives\, we look forward to seeing you at the online 2022 Suicide Prevention Summit. \nRegistration is FREE.
URL:https://www.theresilientveteran.org/event/2022-08-19-1200a/2022-suicide-prevention-summit-mental-health-academy/
CATEGORIES:Job Opportunities,Panel Discussion,Professional Development,Virtual
ATTACH;FMTTYPE=image/jpeg:https://www.theresilientveteran.org/wp-content/uploads/2022/08/MHA-conference-logo.jpg
END:VEVENT
END:VCALENDAR