BEGIN:VCALENDAR
VERSION:2.0
PRODID:-//The Resilient Veteran - ECPv6.15.16//NONSGML v1.0//EN
CALSCALE:GREGORIAN
METHOD:PUBLISH
X-ORIGINAL-URL:https://www.theresilientveteran.org
X-WR-CALDESC:Events for The Resilient Veteran
REFRESH-INTERVAL;VALUE=DURATION:PT1H
X-Robots-Tag:noindex
X-PUBLISHED-TTL:PT1H
BEGIN:VTIMEZONE
TZID:America/New_York
BEGIN:DAYLIGHT
TZOFFSETFROM:-0500
TZOFFSETTO:-0400
TZNAME:EDT
DTSTART:20200308T070000
END:DAYLIGHT
BEGIN:STANDARD
TZOFFSETFROM:-0400
TZOFFSETTO:-0500
TZNAME:EST
DTSTART:20201101T060000
END:STANDARD
BEGIN:DAYLIGHT
TZOFFSETFROM:-0500
TZOFFSETTO:-0400
TZNAME:EDT
DTSTART:20210314T070000
END:DAYLIGHT
BEGIN:STANDARD
TZOFFSETFROM:-0400
TZOFFSETTO:-0500
TZNAME:EST
DTSTART:20211107T060000
END:STANDARD
BEGIN:DAYLIGHT
TZOFFSETFROM:-0500
TZOFFSETTO:-0400
TZNAME:EDT
DTSTART:20220313T070000
END:DAYLIGHT
BEGIN:STANDARD
TZOFFSETFROM:-0400
TZOFFSETTO:-0500
TZNAME:EST
DTSTART:20221106T060000
END:STANDARD
END:VTIMEZONE
BEGIN:VEVENT
DTSTART;TZID=America/New_York:20211208T130000
DTEND;TZID=America/New_York:20211208T140000
DTSTAMP:20260424T115303
CREATED:20211104T141940Z
LAST-MODIFIED:20220217T233741Z
UID:455-1638968400-1638972000@www.theresilientveteran.org
SUMMARY:Governor’s and Mayor’s Challenges to Prevent Suicide Among Service Members\, Veterans\, and their Families
DESCRIPTION:The U.S. Department of Veterans Affairs (VA) and the Substance Abuse and Mental Health Services Administration (SAMHSA) are pleased to announce the creation of three communities of practice\, one for each priority area of the Governor’s and Mayor’s Challenges:\n\nIdentifying SMVF and Screening for Suicide Risk;\nPromoting Connectedness and Improving Care Transitions; and\nIncreasing Lethal Means Safety and Safety Planning.\n\n\nPriority Group 2: Connectedness & Care Transitions \n\nUpcoming Calls (Second Wednesday of the Month): \n\n\nDecember 8\, 2021\, 1:00–2:00 p.m. ET\n\n\n\nThe practice groups meet monthly. Each 1-hour Zoom meeting will feature a Team Spotlight highlighting the work of one team or small group discussion centered on a topical theme. All priority area workgroup leaders and members are invited to register for one or more of the practice groups. Once registered\, calendar invitations will be sent on a reoccurring monthly basis. \n\nObjectives \n\nStrengthen technical assistance support for workgroup leaders and members\nIncrease knowledge about suicide prevention best practices related to each specific priority area\nFacilitate team-to-team sharing of insights and suicide prevention strategies\nInspire practice improvement ideas and innovations across teams
URL:https://www.theresilientveteran.org/event/2021-12-08-100p/governors-and-mayors-challenges-to-prevent-suicide-among-service-members-veterans-and-their-families-3/
CATEGORIES:Panel Discussion,Professional Development,Virtual
ATTACH;FMTTYPE=image/png:https://www.theresilientveteran.org/wp-content/uploads/2021/11/268364a5713efa05fc893444_560x364.png
END:VEVENT
END:VCALENDAR