BEGIN:VCALENDAR
VERSION:2.0
PRODID:-//The Resilient Veteran - ECPv6.15.16//NONSGML v1.0//EN
CALSCALE:GREGORIAN
METHOD:PUBLISH
X-ORIGINAL-URL:https://www.theresilientveteran.org
X-WR-CALDESC:Events for The Resilient Veteran
REFRESH-INTERVAL;VALUE=DURATION:PT1H
X-Robots-Tag:noindex
X-PUBLISHED-TTL:PT1H
BEGIN:VTIMEZONE
TZID:America/New_York
BEGIN:DAYLIGHT
TZOFFSETFROM:-0500
TZOFFSETTO:-0400
TZNAME:EDT
DTSTART:20200308T070000
END:DAYLIGHT
BEGIN:STANDARD
TZOFFSETFROM:-0400
TZOFFSETTO:-0500
TZNAME:EST
DTSTART:20201101T060000
END:STANDARD
BEGIN:DAYLIGHT
TZOFFSETFROM:-0500
TZOFFSETTO:-0400
TZNAME:EDT
DTSTART:20210314T070000
END:DAYLIGHT
BEGIN:STANDARD
TZOFFSETFROM:-0400
TZOFFSETTO:-0500
TZNAME:EST
DTSTART:20211107T060000
END:STANDARD
BEGIN:DAYLIGHT
TZOFFSETFROM:-0500
TZOFFSETTO:-0400
TZNAME:EDT
DTSTART:20220313T070000
END:DAYLIGHT
BEGIN:STANDARD
TZOFFSETFROM:-0400
TZOFFSETTO:-0500
TZNAME:EST
DTSTART:20221106T060000
END:STANDARD
END:VTIMEZONE
BEGIN:VEVENT
DTSTART;TZID=America/New_York:20211216T140000
DTEND;TZID=America/New_York:20211216T153000
DTSTAMP:20260424T115335
CREATED:20211214T144648Z
LAST-MODIFIED:20220217T233728Z
UID:522-1639663200-1639668600@www.theresilientveteran.org
SUMMARY:Veterans Justice Outreach
DESCRIPTION:On December 16\, 2021\, at 2 p.m. ET\, the Bureau of Justice Assistance’s Comprehensive Opioid\, Stimulant\, and Substance Abuse Program Resource Center as well as the Treatment Alternatives for Safe Communities will host a webinar on Veterans Justice Outreach (VJO). \nThis webinar will provide an overview of the Department of Veteran’s Affairs’ (VA) Veterans Justice Programs (VJP)\, specifically Veterans Justice Outreach (VJO). \nAlthough the work that Veterans Justice Outreach Specialists do as members of Veterans Treatment Court teams is by far the best-known part of the program\, this webinar will review the ways in which VJO partnership with local law enforcement and other community agencies can ensure pathways into needed treatment for veterans in crisis\, or simply in need of services. \nThe presenter will examine available information about veterans engaged with the criminal justice system\, orient audience members to VJP’s mission\, vision\, current outreach landscape\, and new and emerging areas of work. Lastly\, the presenter will educate deflection sites on how to best identify veterans with whom they may interact and link to VA services via their local VJO Specialist. \n\n\n\nEvent Date\nDecember 16\, 2021\, 2:00 pm – 3:30 pm Eastern\n\n\n\n\nOnline
URL:https://www.theresilientveteran.org/event/2021-12-16-200p/veterans-justice-outreach/
CATEGORIES:Panel Discussion,Professional Development,Virtual
ATTACH;FMTTYPE=image/jpeg:https://www.theresilientveteran.org/wp-content/uploads/2021/12/BJA-logo.jpg
END:VEVENT
END:VCALENDAR