BEGIN:VCALENDAR
VERSION:2.0
PRODID:-//The Resilient Veteran - ECPv6.15.16//NONSGML v1.0//EN
CALSCALE:GREGORIAN
METHOD:PUBLISH
X-ORIGINAL-URL:https://www.theresilientveteran.org
X-WR-CALDESC:Events for The Resilient Veteran
REFRESH-INTERVAL;VALUE=DURATION:PT1H
X-Robots-Tag:noindex
X-PUBLISHED-TTL:PT1H
BEGIN:VTIMEZONE
TZID:America/New_York
BEGIN:DAYLIGHT
TZOFFSETFROM:-0500
TZOFFSETTO:-0400
TZNAME:EDT
DTSTART:20210314T070000
END:DAYLIGHT
BEGIN:STANDARD
TZOFFSETFROM:-0400
TZOFFSETTO:-0500
TZNAME:EST
DTSTART:20211107T060000
END:STANDARD
BEGIN:DAYLIGHT
TZOFFSETFROM:-0500
TZOFFSETTO:-0400
TZNAME:EDT
DTSTART:20220313T070000
END:DAYLIGHT
BEGIN:STANDARD
TZOFFSETFROM:-0400
TZOFFSETTO:-0500
TZNAME:EST
DTSTART:20221106T060000
END:STANDARD
BEGIN:DAYLIGHT
TZOFFSETFROM:-0500
TZOFFSETTO:-0400
TZNAME:EDT
DTSTART:20230312T070000
END:DAYLIGHT
BEGIN:STANDARD
TZOFFSETFROM:-0400
TZOFFSETTO:-0500
TZNAME:EST
DTSTART:20231105T060000
END:STANDARD
END:VTIMEZONE
BEGIN:VEVENT
DTSTART;TZID=America/New_York:20220310T150000
DTEND;TZID=America/New_York:20220310T163000
DTSTAMP:20260424T075337
CREATED:20220217T231846Z
LAST-MODIFIED:20220217T233613Z
UID:626-1646924400-1646929800@www.theresilientveteran.org
SUMMARY:Centering Equity\, Engaging Communities\, Transforming Systems
DESCRIPTION:MacArthur SJC: Centering Equity\, Engaging Communities\, Transforming Systems\n\nMarch 10\, 2022\, 3:00-4:30 p.m. ET \n\n\nThe goal of the MacArthur Foundation’s Safety and Justice Challenge’s criminal justice team is to center racial equity in our local justice reform efforts. Through the Substance Abuse and Mental Health Services Administration’s (SAMHSA) Service Members\, Veterans\, and their Families (SMVF) TA Center there is a network for implementing and innovating local sites that collectively play a role in addressing racial and ethnic disparities and build our own capacity to be champions of racial equity. \n\n\nAs the Safety and Justice Challenge invests in local justice systems that advance racial equity and justice through the pursuit of anti-racist jail reduction policies and practices\, this webinar will feature several jurisdictions that have made great strides in centering racial equity in their work. \n\n\nThe Safety and Justice Challenge Network fosters an inclusive and restorative definition of safety that prioritizes the dignity of all those involved\, honors the expertise of directly impacted communities\, and believes together\, across sectors and communities\, we can achieve transformational change so that all people have what they need to thrive. \n\n\nOur panelists will show how their respective jurisdictions have engaged in this pursuit of transformational change from an intersectional perspective\, to achieve equitable outcomes for all people\, thereby prioritizing a focus on people of color. \nRegister online.
URL:https://www.theresilientveteran.org/event/2022-03-10-300p/centering-equity-engaging-communities-transforming-systems-2/
CATEGORIES:Panel Discussion,Professional Development,Virtual
ATTACH;FMTTYPE=image/png:https://www.theresilientveteran.org/wp-content/uploads/2022/02/equity-in-action-series.png
END:VEVENT
END:VCALENDAR