BEGIN:VCALENDAR
VERSION:2.0
PRODID:-//The Resilient Veteran - ECPv6.15.16//NONSGML v1.0//EN
CALSCALE:GREGORIAN
METHOD:PUBLISH
X-WR-CALNAME:The Resilient Veteran
X-ORIGINAL-URL:https://www.theresilientveteran.org
X-WR-CALDESC:Events for The Resilient Veteran
REFRESH-INTERVAL;VALUE=DURATION:PT1H
X-Robots-Tag:noindex
X-PUBLISHED-TTL:PT1H
BEGIN:VTIMEZONE
TZID:America/New_York
BEGIN:DAYLIGHT
TZOFFSETFROM:-0500
TZOFFSETTO:-0400
TZNAME:EDT
DTSTART:20210314T070000
END:DAYLIGHT
BEGIN:STANDARD
TZOFFSETFROM:-0400
TZOFFSETTO:-0500
TZNAME:EST
DTSTART:20211107T060000
END:STANDARD
BEGIN:DAYLIGHT
TZOFFSETFROM:-0500
TZOFFSETTO:-0400
TZNAME:EDT
DTSTART:20220313T070000
END:DAYLIGHT
BEGIN:STANDARD
TZOFFSETFROM:-0400
TZOFFSETTO:-0500
TZNAME:EST
DTSTART:20221106T060000
END:STANDARD
BEGIN:DAYLIGHT
TZOFFSETFROM:-0500
TZOFFSETTO:-0400
TZNAME:EDT
DTSTART:20230312T070000
END:DAYLIGHT
BEGIN:STANDARD
TZOFFSETFROM:-0400
TZOFFSETTO:-0500
TZNAME:EST
DTSTART:20231105T060000
END:STANDARD
END:VTIMEZONE
BEGIN:VEVENT
DTSTART;TZID=America/New_York:20220317T150000
DTEND;TZID=America/New_York:20220317T163000
DTSTAMP:20260424T075042
CREATED:20220217T232150Z
LAST-MODIFIED:20220217T233605Z
UID:633-1647529200-1647534600@www.theresilientveteran.org
SUMMARY:Leveraging SAMHSA SMVF Technical Assistance to Improve Systems
DESCRIPTION:Leveraging SAMHSA SMVF Technical Assistance to Improve Systems\n\nMarch 17\, 2022\, 3:00-4:30 p.m. ET \n\n\nThis installment in the Equity in Action webinar series will provide an overview of how SAMHSA’s SMVF TA Center can help ensure equity in state programs by providing education to and increasing awareness among TA recipients around the following topics: \n\n\nEngaging special populations (American Indian/Alaska Native Veterans\, Behavioral Health Supports for Veterans in Rural Areas\, Families and Caregivers of Veterans\, Women Veterans\, Aging Veterans\, Black and Hispanic Veterans\, and Veterans from LGBTQ Communities)\nApplying a health equity lens to identify and address social determinants of health (SDOH)\, as well as diversity\, equity\, and inclusion (DEI) principles when working with members of the SMVF population\nMaking use of the SAMHSA SMVF TA Center Special Populations webpage\n\n\nThis webinar will also offer a unique opportunity to discuss challenges and pose questions about the SDOH and DEI issues that may impact wellbeing among the SMVF population. Research suggests adverse SDOH are strong predictors of suicide risk.* In light of this\, this installment in the webinar series will explore unique characteristics of special populations\, ways to raise awareness to better serve these populations utilizing DEI principles\, and innovative strategies to enhance state and local suicide prevention efforts by including a focus on equity to positively impact the SMVF community. Every member of the SMVF community is unique. At the SMVF TA Center the importance of addressing the diverse needs of SMVF is understood\, valued\, and reflected in the work. A special populations website demonstrating this effort\, developed to assist and guide those who are engaged with different populations of the SMVF community\, will be explored. \nRegister online.
URL:https://www.theresilientveteran.org/event/2022-03-17-300p/leveraging-samhsa-smvf-technical-assistance-to-improve-systems/
CATEGORIES:Panel Discussion,Professional Development,Virtual
ATTACH;FMTTYPE=image/png:https://www.theresilientveteran.org/wp-content/uploads/2022/02/equity-in-action-series.png
END:VEVENT
END:VCALENDAR