BEGIN:VCALENDAR
VERSION:2.0
PRODID:-//The Resilient Veteran - ECPv6.15.16//NONSGML v1.0//EN
CALSCALE:GREGORIAN
METHOD:PUBLISH
X-ORIGINAL-URL:https://www.theresilientveteran.org
X-WR-CALDESC:Events for The Resilient Veteran
REFRESH-INTERVAL;VALUE=DURATION:PT1H
X-Robots-Tag:noindex
X-PUBLISHED-TTL:PT1H
BEGIN:VTIMEZONE
TZID:America/New_York
BEGIN:DAYLIGHT
TZOFFSETFROM:-0500
TZOFFSETTO:-0400
TZNAME:EDT
DTSTART:20210314T070000
END:DAYLIGHT
BEGIN:STANDARD
TZOFFSETFROM:-0400
TZOFFSETTO:-0500
TZNAME:EST
DTSTART:20211107T060000
END:STANDARD
BEGIN:DAYLIGHT
TZOFFSETFROM:-0500
TZOFFSETTO:-0400
TZNAME:EDT
DTSTART:20220313T070000
END:DAYLIGHT
BEGIN:STANDARD
TZOFFSETFROM:-0400
TZOFFSETTO:-0500
TZNAME:EST
DTSTART:20221106T060000
END:STANDARD
BEGIN:DAYLIGHT
TZOFFSETFROM:-0500
TZOFFSETTO:-0400
TZNAME:EDT
DTSTART:20230312T070000
END:DAYLIGHT
BEGIN:STANDARD
TZOFFSETFROM:-0400
TZOFFSETTO:-0500
TZNAME:EST
DTSTART:20231105T060000
END:STANDARD
END:VTIMEZONE
BEGIN:VEVENT
DTSTART;TZID=America/New_York:20220322T140000
DTEND;TZID=America/New_York:20220322T150000
DTSTAMP:20260424T075438
CREATED:20220217T233311Z
LAST-MODIFIED:20220217T233558Z
UID:640-1647957600-1647961200@www.theresilientveteran.org
SUMMARY:Aligning the Field Around a 988 Messaging Framework
DESCRIPTION:Tuesday\, March 22\, 2022 2:00 – 3:00 p.m. ET \nRegister online. \nIn July 2022\, the National Suicide Prevention Lifeline (800-273-8255) will transition to 988—an easy to remember three-digit dialing\, texting\, and chat code for anyone experiencing a suicidal or mental health crisis. To help public messengers—including state agencies\, crisis centers\, non-profit organizations\, businesses\, foundations\, and others—in determining when and how to best communicate about 988\, the National Action Alliance for Suicide Prevention (Action Alliance)\, is releasing a 988 Messaging Framework next month. Developed in collaboration with a 988 Messaging Task Force co-led by the Substance Abuse and Mental Health Services Administration (SAMHSA) and Vibrant Emotional Health (operational home of the National Suicide Prevention Lifeline)\, the 988 Messaging Framework will serve as a roadmap of key elements to consider when planning a messaging strategy around the transition to 988. This resource provides general guidance to the field around when and how to develop public messages about 988 and is not intended to provide tailored\, audience-specific\, ready-to-use messaging. \nJoin the Action Alliance on March 22 at 2:00 p.m. ET for a free webinar—Aligning the Field Around a 988 Messaging Framework—to learn more about this new resource and how you can use it to guide your public messaging efforts. During this hour-long webinar\, participants will: \n· Learn how to utilize the 988 Messaging Framework to inform strategic messaging efforts ahead of and following the nationwide transition to 988 in July 2022. \n· Have an opportunity to hear directly from the national leads of 988—SAMHSA and Vibrant Emotional Health—about 988 implementation and communications and the importance of aligned messaging across the field. \nPanelists for the webinar include: \n· Ms. Kim Torguson\, Director of Engagement & Communications\, National Action Alliance for Suicide Prevention\, Education Development Center (moderator) \n· Mr. Mark Custer\, Director\, Reingold \n· Dr. John Draper\, Director\, National Suicide Prevention Lifeline\, Vibrant Emotional Health \n· Ms. Kate Galatas\, Public Sector Co-Lead\, 988 Messaging Task Force\, and Chief 988 Communications & Engagement Officer\, SAMHSA \n· Dr. John Palmieri\, Acting Director of 988\, SAMHSA \nThe Action Alliance thanks Executive Committee (EXCOM) partner Johnson & Johnson—Janssen for providing support for the development of the 988 Messaging Framework.
URL:https://www.theresilientveteran.org/event/2022-03-22-200p/aligning-the-field-around-a-988-messaging-framework/
CATEGORIES:Panel Discussion,Professional Development,Virtual
ATTACH;FMTTYPE=image/png:https://www.theresilientveteran.org/wp-content/uploads/2022/02/988_messaging_webinar_graphic_3.png
END:VEVENT
END:VCALENDAR