BEGIN:VCALENDAR
VERSION:2.0
PRODID:-//The Resilient Veteran - ECPv6.15.16//NONSGML v1.0//EN
CALSCALE:GREGORIAN
METHOD:PUBLISH
X-WR-CALNAME:The Resilient Veteran
X-ORIGINAL-URL:https://www.theresilientveteran.org
X-WR-CALDESC:Events for The Resilient Veteran
REFRESH-INTERVAL;VALUE=DURATION:PT1H
X-Robots-Tag:noindex
X-PUBLISHED-TTL:PT1H
BEGIN:VTIMEZONE
TZID:America/New_York
BEGIN:DAYLIGHT
TZOFFSETFROM:-0500
TZOFFSETTO:-0400
TZNAME:EDT
DTSTART:20210314T070000
END:DAYLIGHT
BEGIN:STANDARD
TZOFFSETFROM:-0400
TZOFFSETTO:-0500
TZNAME:EST
DTSTART:20211107T060000
END:STANDARD
BEGIN:DAYLIGHT
TZOFFSETFROM:-0500
TZOFFSETTO:-0400
TZNAME:EDT
DTSTART:20220313T070000
END:DAYLIGHT
BEGIN:STANDARD
TZOFFSETFROM:-0400
TZOFFSETTO:-0500
TZNAME:EST
DTSTART:20221106T060000
END:STANDARD
BEGIN:DAYLIGHT
TZOFFSETFROM:-0500
TZOFFSETTO:-0400
TZNAME:EDT
DTSTART:20230312T070000
END:DAYLIGHT
BEGIN:STANDARD
TZOFFSETFROM:-0400
TZOFFSETTO:-0500
TZNAME:EST
DTSTART:20231105T060000
END:STANDARD
END:VTIMEZONE
BEGIN:VEVENT
DTSTART;TZID=America/New_York:20220324T150000
DTEND;TZID=America/New_York:20220324T163000
DTSTAMP:20260424T075148
CREATED:20220217T232343Z
LAST-MODIFIED:20220217T233549Z
UID:635-1648134000-1648139400@www.theresilientveteran.org
SUMMARY:Leveraging SAMHSA SOAR Technical Assistance to Improve Systems
DESCRIPTION:Leveraging SAMHSA SOAR Technical Assistance to Improve Systems\n\nMarch 24\, 2022\, 3:00-4:30 p.m. ET \n\n\nThe SAMHSA SOAR TA Center has worked to address the barriers to equity in SOAR implementation with the development of resources\, tools\, and training. For this webinar\, SOAR Leaders will discuss how these resources have been used to promote equity and reduce the impact of implicit basis in the implementation of SOAR work within their agencies. SOAR State Leads will discuss the integration of resources in their work and steps they have taken to ensure that diverse groups are equitably accessing services. Panelists will also share how community demographics (race\, ethnicity\, culture\, gender\, sexual orientation\, and justice involvement) impact access to SOAR programs and present strategies for recognizing and reaching individuals that are underserved. SAMHSA SOAR TA Center staff will share a brief summary of the equity-focused SOAR products and tools designed to support SOAR initiatives in their efforts to achieve equity and inclusion in program access and participation. Finally\, staff of the SAMHSA-funded Homeless and Housing Resource Center (HHRC) will share how equity is integrated into their resources and trainings for housing and health professionals. \nRegister online.
URL:https://www.theresilientveteran.org/event/2022-03-24-300p/leveraging-samhsa-soar-technical-assistance-to-improve-systems/
CATEGORIES:Panel Discussion,Professional Development,Virtual
ATTACH;FMTTYPE=image/png:https://www.theresilientveteran.org/wp-content/uploads/2022/02/equity-in-action-series.png
END:VEVENT
END:VCALENDAR