BEGIN:VCALENDAR
VERSION:2.0
PRODID:-//The Resilient Veteran - ECPv6.15.16//NONSGML v1.0//EN
CALSCALE:GREGORIAN
METHOD:PUBLISH
X-WR-CALNAME:The Resilient Veteran
X-ORIGINAL-URL:https://www.theresilientveteran.org
X-WR-CALDESC:Events for The Resilient Veteran
REFRESH-INTERVAL;VALUE=DURATION:PT1H
X-Robots-Tag:noindex
X-PUBLISHED-TTL:PT1H
BEGIN:VTIMEZONE
TZID:America/New_York
BEGIN:DAYLIGHT
TZOFFSETFROM:-0500
TZOFFSETTO:-0400
TZNAME:EDT
DTSTART:20210314T070000
END:DAYLIGHT
BEGIN:STANDARD
TZOFFSETFROM:-0400
TZOFFSETTO:-0500
TZNAME:EST
DTSTART:20211107T060000
END:STANDARD
BEGIN:DAYLIGHT
TZOFFSETFROM:-0500
TZOFFSETTO:-0400
TZNAME:EDT
DTSTART:20220313T070000
END:DAYLIGHT
BEGIN:STANDARD
TZOFFSETFROM:-0400
TZOFFSETTO:-0500
TZNAME:EST
DTSTART:20221106T060000
END:STANDARD
BEGIN:DAYLIGHT
TZOFFSETFROM:-0500
TZOFFSETTO:-0400
TZNAME:EDT
DTSTART:20230312T070000
END:DAYLIGHT
BEGIN:STANDARD
TZOFFSETFROM:-0400
TZOFFSETTO:-0500
TZNAME:EST
DTSTART:20231105T060000
END:STANDARD
END:VTIMEZONE
BEGIN:VEVENT
DTSTART;TZID=America/New_York:20220628T080000
DTEND;TZID=America/New_York:20220628T170000
DTSTAMP:20260424T022919
CREATED:20220623T191402Z
LAST-MODIFIED:20220623T191437Z
UID:1026-1656403200-1656435600@www.theresilientveteran.org
SUMMARY:Ending Veteran Homelessness: The Landscape Today
DESCRIPTION:Registration Deadline: July 1\, 2022* \n\n\nSince 2010\, the number of Veterans experiencing homelessness in the United States has been cut almost in half\, from 74\,087 in 2010 to 37\,252 in 2020. Despite the overall decrease in Veteran homelessness\, data shows that progress has stalled since 2016. This learning community will explore lessons from the past and center on policy and practice solutions that work. Participants will deepen their understanding of risk and protective factors for Veteran homelessness and of innovative solutions for our most underserved communities. And finally\, participants will discover resources available to prevent and end Veteran homelessness. \n\n\n\n\n\n\n\n\n\n\n\n*Registration is limited to the first 100 registrants. Register online to attend. \n\n\n\n\n\n\n\n\n\n\n  \n\n\n\n\n\n\n\n\n\nSession 1: Learning from the Past\, Looking to the Future\n\nDate: July 14\, 2022\, 2:00-3:30 p.m. ET \n\nObjectives\n\nExplore national trends in Veteran homelessness\nDescribe risk and protective factors unique to the Veteran population\nIdentify federal homeless programs and resources available\nReview national priorities for ending Veteran homelessness\n\nPresenters\n\nJack Tsai\, PhD\, Director of Research\, National Center on Homelessness Among Veterans\, U.S. Department of Veterans Affairs (VA)\nJohn Kuhn\, MPH\, LCSW\, National Director\, Supportive Services for Veteran Families\, VA\n\nSession 2: Policy Solutions for Underserved Communities\n\nDate: July 28\, 2022\, 2:00-3:30 p.m. ET \n\nObjectives\n\nIllustrate the needs of underserved Veterans experiencing homelessness\nDescribe the implementation of racial equity in Veterans Health Administration (VHA) homeless programs\nHighlight plans for a pilot of enhanced services to enable Veterans to age in place\n\nPresenters\nImplementing Racial Equity in VHA Homeless Programs\n\nShawn Liu\, LCSW\, VHA-CM\, Community Engagement Coordinator\, Homeless Programs Office\, VHA\, VA\nAnthony Love\, MA\, Senior Advisor and Director of Community Engagement Homeless Programs Office\, VHA\, VA\n\nAging in Place: Veteran Support to Self-Reliance Pilot Program\n\nAmy Fairweather\, JD\, Director of Policy\, Swords to Plowshares\n\nSession 3: Innovative Solutions: How to Engage\, How to House\, How to Sustain\n\nDate: August 11\, 2022\, 2:00-3:30 p.m. ET \n\nObjectives\n\nExplore innovative housing solutions for Veterans experiencing homelessness\nIdentify effective strategies for engaging and housing Veterans\nDescribe how a holistic approach can provide a sustainable model for housing Veterans and increasing their overall health and well-being\n\nPresenters\nVCP Village: Built by Veterans for Veterans\n\nVincent Morales\, Co-founder\, Veterans Community Project\n\nA Holistic Approach to Community Integration\n\nDylan Tête\, Executive Director and Founder\, Bastion Community of Resilience
URL:https://www.theresilientveteran.org/event/2022-06-28-800a/ending-veteran-homelessness-the-landscape-today/
CATEGORIES:Panel Discussion,Professional Development,Virtual
ATTACH;FMTTYPE=image/png:https://www.theresilientveteran.org/wp-content/uploads/2021/11/268364a5713efa05fc893444_560x364.png
END:VEVENT
END:VCALENDAR