BEGIN:VCALENDAR
VERSION:2.0
PRODID:-//The Resilient Veteran - ECPv6.15.16//NONSGML v1.0//EN
CALSCALE:GREGORIAN
METHOD:PUBLISH
X-WR-CALNAME:The Resilient Veteran
X-ORIGINAL-URL:https://www.theresilientveteran.org
X-WR-CALDESC:Events for The Resilient Veteran
REFRESH-INTERVAL;VALUE=DURATION:PT1H
X-Robots-Tag:noindex
X-PUBLISHED-TTL:PT1H
BEGIN:VTIMEZONE
TZID:America/New_York
BEGIN:DAYLIGHT
TZOFFSETFROM:-0500
TZOFFSETTO:-0400
TZNAME:EDT
DTSTART:20210314T070000
END:DAYLIGHT
BEGIN:STANDARD
TZOFFSETFROM:-0400
TZOFFSETTO:-0500
TZNAME:EST
DTSTART:20211107T060000
END:STANDARD
BEGIN:DAYLIGHT
TZOFFSETFROM:-0500
TZOFFSETTO:-0400
TZNAME:EDT
DTSTART:20220313T070000
END:DAYLIGHT
BEGIN:STANDARD
TZOFFSETFROM:-0400
TZOFFSETTO:-0500
TZNAME:EST
DTSTART:20221106T060000
END:STANDARD
BEGIN:DAYLIGHT
TZOFFSETFROM:-0500
TZOFFSETTO:-0400
TZNAME:EDT
DTSTART:20230312T070000
END:DAYLIGHT
BEGIN:STANDARD
TZOFFSETFROM:-0400
TZOFFSETTO:-0500
TZNAME:EST
DTSTART:20231105T060000
END:STANDARD
END:VTIMEZONE
BEGIN:VEVENT
DTSTART;TZID=America/New_York:20221005T110000
DTEND;TZID=America/New_York:20221005T123000
DTSTAMP:20260423T223914
CREATED:20220915T132148Z
LAST-MODIFIED:20220915T132148Z
UID:1256-1664967600-1664973000@www.theresilientveteran.org
SUMMARY:Coaching Into Care – Role of Veterans Family Members and Friends in Mental Health Care
DESCRIPTION:Coaching Into Care – Role of Veterans Family Members and Friends in Mental Health Care\nWednesday\, October 5\, 2022\n11:00 AM – 12:30 PM EST \n\nWhere\nVirtual Webinar \nStart Time by Time Zones: \n8:00 am – Pacific / Arizona\n9:00 am – Mountain\n10:00 am – Central\n11:00 am – Eastern \n\n\nContact\nKatie E. Civiletto Stenger\nSummit BHC Tactical Recovery\n716-673-5017  katie.stenger@summitbhc.com \n\nPresented By: \nCindy Swinkels\, Ph. D.\, CBSM\, DBSM
URL:https://www.theresilientveteran.org/event/2022-10-05-1100a/coaching-into-care-role-of-veterans-family-members-and-friends-in-mental-health-care/
CATEGORIES:Panel Discussion,Professional Development,Virtual
ATTACH;FMTTYPE=image/jpeg:https://www.theresilientveteran.org/wp-content/uploads/2022/09/Coaching-Into-Care-Flyer-.jpeg
END:VEVENT
END:VCALENDAR