BEGIN:VCALENDAR
VERSION:2.0
PRODID:-//The Resilient Veteran - ECPv6.15.16//NONSGML v1.0//EN
CALSCALE:GREGORIAN
METHOD:PUBLISH
X-ORIGINAL-URL:https://www.theresilientveteran.org
X-WR-CALDESC:Events for The Resilient Veteran
REFRESH-INTERVAL;VALUE=DURATION:PT1H
X-Robots-Tag:noindex
X-PUBLISHED-TTL:PT1H
BEGIN:VTIMEZONE
TZID:America/New_York
BEGIN:DAYLIGHT
TZOFFSETFROM:-0500
TZOFFSETTO:-0400
TZNAME:EDT
DTSTART:20210314T070000
END:DAYLIGHT
BEGIN:STANDARD
TZOFFSETFROM:-0400
TZOFFSETTO:-0500
TZNAME:EST
DTSTART:20211107T060000
END:STANDARD
BEGIN:DAYLIGHT
TZOFFSETFROM:-0500
TZOFFSETTO:-0400
TZNAME:EDT
DTSTART:20220313T070000
END:DAYLIGHT
BEGIN:STANDARD
TZOFFSETFROM:-0400
TZOFFSETTO:-0500
TZNAME:EST
DTSTART:20221106T060000
END:STANDARD
BEGIN:DAYLIGHT
TZOFFSETFROM:-0500
TZOFFSETTO:-0400
TZNAME:EDT
DTSTART:20230312T070000
END:DAYLIGHT
BEGIN:STANDARD
TZOFFSETFROM:-0400
TZOFFSETTO:-0500
TZNAME:EST
DTSTART:20231105T060000
END:STANDARD
END:VTIMEZONE
BEGIN:VEVENT
DTSTART;TZID=America/New_York:20221016T080000
DTEND;TZID=America/New_York:20221018T170000
DTSTAMP:20260423T224028
CREATED:20220628T145934Z
LAST-MODIFIED:20220922T195157Z
UID:1055-1665907200-1666112400@www.theresilientveteran.org
SUMMARY:11th Annual National LOSS Team Conference
DESCRIPTION:The Annual National LOSS (Local Outreach to Suicide Survivors) Team Conference is a multi-dimensional\, multi-day event that actively explores the public health crisis of suicide. It includes community engagement\, nationally recognized subject experts\, and strategic conference topics\, creating a unique opportunity for mental health professionals\, first responders\, school counselors\, faith leaders\, funeral directors\, suicide loss survivors\, LOSS Team members\, and other community members to share and learn about caring for those struggling with a loss to suicide.\n\n \nThis year’s conference theme is ‘Postvention is Prevention’. Developing a LOSS Team and integrating it into a community provides immediate support and resources to persons who have lost a loved one\, friend\, or colleague to suicide. LOSS Teams engage in advanced postvention efforts that take place immediately following a death by suicide and provide services\, support\, and linkage to the suicidally bereaved. Regrettably\, in many communities there is no organized response to local suicides\, which can leave survivors to feel isolated\, guilty\, or ashamed as they attempt to find a path forward. The bereaved may struggle for long periods of time before seeking or receiving help. LOSS Teams can change that. Research shows that families touched by suicide that do not receive initial services by a LOSS Team will wait many years before reaching out for help. \n\n\nThe ONSITE conference registration fee includes the following:\n\n\n\nAdmittance to all 4 keynote speakers\nAdmittance to 5 workshops\nCEUs*\nBreakfast\, lunch\, and snacks for both conference days\nOptional evening excursion: Trolley ride to downtown Fort Wayne\n\n \nThe VIRTUAL conference registration fee includes the following:\n\n\nAdmittance to all 4 keynote speakers\nAdmittance to one workshop from each track\nLOSS panel\nLOSS Team panel\n\n\n\n*Continuing education hours are available for conference attendees and are included in the registration fee. Certificates are awarded by Purdue University Fort Wayne and will be emailed after the conference.  \n\n\n\nVisit the conference website for full details and registration.
URL:https://www.theresilientveteran.org/event/2022-10-16-800a/11th-annual-national-loss-team-conference/
CATEGORIES:In-person,Panel Discussion,Professional Development,Virtual
ATTACH;FMTTYPE=image/jpeg:https://www.theresilientveteran.org/wp-content/uploads/2022/06/National-LOSS-Team-Conference.jpg
END:VEVENT
END:VCALENDAR