BEGIN:VCALENDAR
VERSION:2.0
PRODID:-//The Resilient Veteran - ECPv6.15.16//NONSGML v1.0//EN
CALSCALE:GREGORIAN
METHOD:PUBLISH
X-WR-CALNAME:The Resilient Veteran
X-ORIGINAL-URL:https://www.theresilientveteran.org
X-WR-CALDESC:Events for The Resilient Veteran
REFRESH-INTERVAL;VALUE=DURATION:PT1H
X-Robots-Tag:noindex
X-PUBLISHED-TTL:PT1H
BEGIN:VTIMEZONE
TZID:America/New_York
BEGIN:DAYLIGHT
TZOFFSETFROM:-0500
TZOFFSETTO:-0400
TZNAME:EDT
DTSTART:20210314T070000
END:DAYLIGHT
BEGIN:STANDARD
TZOFFSETFROM:-0400
TZOFFSETTO:-0500
TZNAME:EST
DTSTART:20211107T060000
END:STANDARD
BEGIN:DAYLIGHT
TZOFFSETFROM:-0500
TZOFFSETTO:-0400
TZNAME:EDT
DTSTART:20220313T070000
END:DAYLIGHT
BEGIN:STANDARD
TZOFFSETFROM:-0400
TZOFFSETTO:-0500
TZNAME:EST
DTSTART:20221106T060000
END:STANDARD
BEGIN:DAYLIGHT
TZOFFSETFROM:-0500
TZOFFSETTO:-0400
TZNAME:EDT
DTSTART:20230312T070000
END:DAYLIGHT
BEGIN:STANDARD
TZOFFSETFROM:-0400
TZOFFSETTO:-0500
TZNAME:EST
DTSTART:20231105T060000
END:STANDARD
END:VTIMEZONE
BEGIN:VEVENT
DTSTART;TZID=America/New_York:20221213T140000
DTEND;TZID=America/New_York:20221213T153000
DTSTAMP:20260423T200630
CREATED:20221117T180643Z
LAST-MODIFIED:20221117T180643Z
UID:1414-1670940000-1670945400@www.theresilientveteran.org
SUMMARY:How States and Communities Can Better Support Military and Veteran Caregivers
DESCRIPTION:Date: Three-part series: December 13\, 2022; January 12\, 2023; February 9\, 2023Time: 2:00–3:30 p.m. ET \nRegister Online \n\n\n\nSession 1 – The Future of Caregiving: A Path for the Way Forward\n\nPart 1: Tuesday\, December 13\, 2022\, 2:00-3:30 p.m. ET \n\nLearning Objectives\n\nDescribe what we know about the caregiver population\, which includes not only spouses but also children\, grandparents\, siblings\, neighbors\, and friends\nReview the recently released National Strategy to Support Family Caregivers\nExamine the latest research and national trends on military and Veteran caregivers\n\nPresenter\n\nRoxana Delgado\, Ph.D.\, Assistant Professor\, UT Health San Antonio; Research Advisor to the Campaign for Inclusive Care\, Dole Caregiver Fellow Alumna\, Elizabeth Dole Foundation\n\n\nWith over 5.5 million military and Veteran caregivers in the United States\, the implementation of the newly released National Strategy to Support Family Caregivers is a critical step forward for those caring for our Nation’s wounded\, ill\, and injured service members and Veterans. Caregivers consistently experience worse health outcomes\, greater challenges in family relationships\, and increased difficulties in the workplace than non-caregivers. Military and Veteran caregivers are unique in that they tend to be younger and serve in caregiver roles longer than their civilian counterparts. \n\n\nThis learning community will provide participants an opportunity to learn in a small group and interactive setting. The objectives of this learning community are to (1) Discover a framework for supporting military and Veteran caregivers\, (2) Examine how both paid and informal caregivers can be recognized and valued in the continuum of care\, and (3) Identify resources available that are specifically tailored for military and Veteran caregivers. \n\n\nThe learning community will meet monthly for three sessions beginning in December 2022 via Zoom. Each session will feature an expert presentation with engaging group discussion incorporated throughout.
URL:https://www.theresilientveteran.org/event/2022-12-13-200p/how-states-and-communities-can-better-support-military-and-veteran-caregivers/
CATEGORIES:Family-friendly,Panel Discussion,Professional Development,Virtual
ATTACH;FMTTYPE=image/png:https://www.theresilientveteran.org/wp-content/uploads/2021/11/268364a5713efa05fc893444_560x364.png
END:VEVENT
END:VCALENDAR