BEGIN:VCALENDAR
VERSION:2.0
PRODID:-//The Resilient Veteran - ECPv6.15.16//NONSGML v1.0//EN
CALSCALE:GREGORIAN
METHOD:PUBLISH
X-WR-CALNAME:The Resilient Veteran
X-ORIGINAL-URL:https://www.theresilientveteran.org
X-WR-CALDESC:Events for The Resilient Veteran
REFRESH-INTERVAL;VALUE=DURATION:PT1H
X-Robots-Tag:noindex
X-PUBLISHED-TTL:PT1H
BEGIN:VTIMEZONE
TZID:America/New_York
BEGIN:DAYLIGHT
TZOFFSETFROM:-0500
TZOFFSETTO:-0400
TZNAME:EDT
DTSTART:20220313T070000
END:DAYLIGHT
BEGIN:STANDARD
TZOFFSETFROM:-0400
TZOFFSETTO:-0500
TZNAME:EST
DTSTART:20221106T060000
END:STANDARD
BEGIN:DAYLIGHT
TZOFFSETFROM:-0500
TZOFFSETTO:-0400
TZNAME:EDT
DTSTART:20230312T070000
END:DAYLIGHT
BEGIN:STANDARD
TZOFFSETFROM:-0400
TZOFFSETTO:-0500
TZNAME:EST
DTSTART:20231105T060000
END:STANDARD
BEGIN:DAYLIGHT
TZOFFSETFROM:-0500
TZOFFSETTO:-0400
TZNAME:EDT
DTSTART:20240310T070000
END:DAYLIGHT
BEGIN:STANDARD
TZOFFSETFROM:-0400
TZOFFSETTO:-0500
TZNAME:EST
DTSTART:20241103T060000
END:STANDARD
END:VTIMEZONE
BEGIN:VEVENT
DTSTART;TZID=America/New_York:20230119T120000
DTEND;TZID=America/New_York:20230119T130000
DTSTAMP:20260423T183844
CREATED:20230118T145745Z
LAST-MODIFIED:20230118T145745Z
UID:1537-1674129600-1674133200@www.theresilientveteran.org
SUMMARY:Recovery is Community Virtual Narcan Training
DESCRIPTION:Virtual Training Series\nThis is a Recovery is Community NWPA grant project through UPMC Western Behavioral Health at Safe Harbor. \nWe hope you can join us for our Recovery is Beautiful NWPA Naloxone Training Series every third Thursday at 12-1pm. These talks will feature Susan Huffman\, Senior Program Specialist for Venango County SCA and Julia Covert\, Prevention Specialist for Crawford County Drug and Alcohol. \nFREE. Register online. \nFree CE credit of 1.0 hour will be offered for LSW/LCSW/LPC/LMFT and Nursing to those who attend.\n \nRequirements include attendance for the duration of the session and completion of a course evaluation provided at the end of the session. \nACCREDITATION \nIn support of improving patient care the University of Pittsburgh is jointly accredited by the Accreditation Council for Continuing Medical Education (ACCME)\, the Accreditation Council for Pharmacy Education (ACPE)\, and the American Nurses Credentialing Center (ANCC) to provide continuing education for the health care team. \nSOCIAL WORK (CEU) \nMercyhurst University’s Department of Social Work is accredited by the Council on Social Work Education and is an approved provider of Social Work\, Marriage & Family Therapist and Professional Counselor continuing education by the Pennsylvania State Licensing Board.
URL:https://www.theresilientveteran.org/event/2023-01-19-1200p/recovery-is-community-virtual-narcan-training/
CATEGORIES:Panel Discussion,Professional Development,Virtual
ATTACH;FMTTYPE=image/png:https://www.theresilientveteran.org/wp-content/uploads/2021/09/UPMC.png
END:VEVENT
END:VCALENDAR