BEGIN:VCALENDAR
VERSION:2.0
PRODID:-//The Resilient Veteran - ECPv6.15.16//NONSGML v1.0//EN
CALSCALE:GREGORIAN
METHOD:PUBLISH
X-ORIGINAL-URL:https://www.theresilientveteran.org
X-WR-CALDESC:Events for The Resilient Veteran
REFRESH-INTERVAL;VALUE=DURATION:PT1H
X-Robots-Tag:noindex
X-PUBLISHED-TTL:PT1H
BEGIN:VTIMEZONE
TZID:America/New_York
BEGIN:DAYLIGHT
TZOFFSETFROM:-0500
TZOFFSETTO:-0400
TZNAME:EDT
DTSTART:20220313T070000
END:DAYLIGHT
BEGIN:STANDARD
TZOFFSETFROM:-0400
TZOFFSETTO:-0500
TZNAME:EST
DTSTART:20221106T060000
END:STANDARD
BEGIN:DAYLIGHT
TZOFFSETFROM:-0500
TZOFFSETTO:-0400
TZNAME:EDT
DTSTART:20230312T070000
END:DAYLIGHT
BEGIN:STANDARD
TZOFFSETFROM:-0400
TZOFFSETTO:-0500
TZNAME:EST
DTSTART:20231105T060000
END:STANDARD
BEGIN:DAYLIGHT
TZOFFSETFROM:-0500
TZOFFSETTO:-0400
TZNAME:EDT
DTSTART:20240310T070000
END:DAYLIGHT
BEGIN:STANDARD
TZOFFSETFROM:-0400
TZOFFSETTO:-0500
TZNAME:EST
DTSTART:20241103T060000
END:STANDARD
END:VTIMEZONE
BEGIN:VEVENT
DTSTART;TZID=America/New_York:20230210T120000
DTEND;TZID=America/New_York:20230210T130000
DTSTAMP:20260423T171622
CREATED:20230118T150403Z
LAST-MODIFIED:20230118T150403Z
UID:1541-1676030400-1676034000@www.theresilientveteran.org
SUMMARY:Recovery is Community: Differential Diagnosis with Complaints of Attention Problems
DESCRIPTION:Presented by Lisa May\, Ph.D. \nThis presentation will review common differential diagnoses and symptom presentation for attention/focus patient complaints. \nLearning Objectives – Participants will be able to: \n\n·Identify common differential diagnoses when presented with patient complaint of attention problems.\n·Identify some common screening tools that could be used to assist with diagnosis.\n·Identify when referral for neuropsychological evaluation is recommended to assist with diagnosis.\n\nFREE. Register online. \nFree CE credit of 1.0 hour for AMA\, ANCC\, and LSW/LCW/LPC/LMFT will be offered to those who attend.  \nRequirements include attendance for the duration of the session and completion of a course evaluation provided at the end of the session.  \nACCREDITATION  \nIn support of improving patient care the University of Pittsburgh is jointly accredited by the Accreditation Council for Continuing Medical Education (ACCME)\, the Accreditation Council for Pharmacy Education (ACPE)\, and the American Nurses Credentialing Center (ANCC) to provide continuing education for the health care team.  \nPHYSICIAN (CME)  \nThe University of Pittsburgh designates this live activity for a maximum of 1.0 AMA PRA Category 1 Credits™. Physicians should claim only the credit commensurate with the extent of their participation in the activity. \nSOCIAL WORK (CEU) \nMercyhurst University’s Department of Social Work is accredited by the Council on Social Work Education and is an approved provider of Social Work\, Marriage & Family Therapist and Professional Counselor continuing education by the Pennsylvania State Licensing Board.
URL:https://www.theresilientveteran.org/event/2023-02-10-1200p/recovery-is-community-differential-diagnosis-with-complaints-of-attention-problems/
CATEGORIES:Panel Discussion,Professional Development,Virtual
ATTACH;FMTTYPE=image/png:https://www.theresilientveteran.org/wp-content/uploads/2021/09/UPMC.png
END:VEVENT
END:VCALENDAR