BEGIN:VCALENDAR
VERSION:2.0
PRODID:-//The Resilient Veteran - ECPv6.15.16//NONSGML v1.0//EN
CALSCALE:GREGORIAN
METHOD:PUBLISH
X-WR-CALNAME:The Resilient Veteran
X-ORIGINAL-URL:https://www.theresilientveteran.org
X-WR-CALDESC:Events for The Resilient Veteran
REFRESH-INTERVAL;VALUE=DURATION:PT1H
X-Robots-Tag:noindex
X-PUBLISHED-TTL:PT1H
BEGIN:VTIMEZONE
TZID:America/New_York
BEGIN:DAYLIGHT
TZOFFSETFROM:-0500
TZOFFSETTO:-0400
TZNAME:EDT
DTSTART:20220313T070000
END:DAYLIGHT
BEGIN:STANDARD
TZOFFSETFROM:-0400
TZOFFSETTO:-0500
TZNAME:EST
DTSTART:20221106T060000
END:STANDARD
BEGIN:DAYLIGHT
TZOFFSETFROM:-0500
TZOFFSETTO:-0400
TZNAME:EDT
DTSTART:20230312T070000
END:DAYLIGHT
BEGIN:STANDARD
TZOFFSETFROM:-0400
TZOFFSETTO:-0500
TZNAME:EST
DTSTART:20231105T060000
END:STANDARD
BEGIN:DAYLIGHT
TZOFFSETFROM:-0500
TZOFFSETTO:-0400
TZNAME:EDT
DTSTART:20240310T070000
END:DAYLIGHT
BEGIN:STANDARD
TZOFFSETFROM:-0400
TZOFFSETTO:-0500
TZNAME:EST
DTSTART:20241103T060000
END:STANDARD
END:VTIMEZONE
BEGIN:VEVENT
DTSTART;TZID=America/New_York:20230328T123000
DTEND;TZID=America/New_York:20230328T140000
DTSTAMP:20260423T143745
CREATED:20230222T170149Z
LAST-MODIFIED:20230222T170149Z
UID:1691-1680006600-1680012000@www.theresilientveteran.org
SUMMARY:Motivating Veterans to Engage in Substance Use Disorder Treatment
DESCRIPTION:Motivating Veterans to Engage in Substance Use Disorder Treatment\nTuesday\, March 28th\, 2023\n9:30AM PST – 10:30AM MT – 12:30PM EST \nLocation: \nVirtual Presentation \nPresented By: \nAlice Maynor\, LCSW \nDescription:\nVeterans are a unique population to treat for substance use and mental illness due to their background in the military. After ears of having strict structure\, highly stressful career expectations\, and rigorous back to back training\, Veterans re-entering the civilian world can be a difficult challenge to overcome for most. Because of this\, Veterans struggling with substance use disorder and PTSD often enter treatment extremely guarded and/or resistant to treatment\, which can lead to them leaving treatment early. Substance abuse and PTSD are complex issues that require consistent care and commitment to healing for any population\, but for Veterans\, it’s important to understand the barriers that they face on a daily basis and how to help them overcome them. \nRegister online.
URL:https://www.theresilientveteran.org/event/2023-03-28-1230p/motivating-veterans-to-engage-in-substance-use-disorder-treatment/
CATEGORIES:Panel Discussion,Professional Development,Virtual
ATTACH;FMTTYPE=image/jpeg:https://www.theresilientveteran.org/wp-content/uploads/2023/02/SummitBHC-MotivatingVeterans.jpeg
END:VEVENT
END:VCALENDAR