BEGIN:VCALENDAR
VERSION:2.0
PRODID:-//The Resilient Veteran - ECPv6.15.16//NONSGML v1.0//EN
CALSCALE:GREGORIAN
METHOD:PUBLISH
X-WR-CALNAME:The Resilient Veteran
X-ORIGINAL-URL:https://www.theresilientveteran.org
X-WR-CALDESC:Events for The Resilient Veteran
REFRESH-INTERVAL;VALUE=DURATION:PT1H
X-Robots-Tag:noindex
X-PUBLISHED-TTL:PT1H
BEGIN:VTIMEZONE
TZID:America/New_York
BEGIN:DAYLIGHT
TZOFFSETFROM:-0500
TZOFFSETTO:-0400
TZNAME:EDT
DTSTART:20220313T070000
END:DAYLIGHT
BEGIN:STANDARD
TZOFFSETFROM:-0400
TZOFFSETTO:-0500
TZNAME:EST
DTSTART:20221106T060000
END:STANDARD
BEGIN:DAYLIGHT
TZOFFSETFROM:-0500
TZOFFSETTO:-0400
TZNAME:EDT
DTSTART:20230312T070000
END:DAYLIGHT
BEGIN:STANDARD
TZOFFSETFROM:-0400
TZOFFSETTO:-0500
TZNAME:EST
DTSTART:20231105T060000
END:STANDARD
BEGIN:DAYLIGHT
TZOFFSETFROM:-0500
TZOFFSETTO:-0400
TZNAME:EDT
DTSTART:20240310T070000
END:DAYLIGHT
BEGIN:STANDARD
TZOFFSETFROM:-0400
TZOFFSETTO:-0500
TZNAME:EST
DTSTART:20241103T060000
END:STANDARD
END:VTIMEZONE
BEGIN:VEVENT
DTSTART;TZID=America/New_York:20230413T090000
DTEND;TZID=America/New_York:20230413T110000
DTSTAMP:20260423T143333
CREATED:20230330T144814Z
LAST-MODIFIED:20230330T144814Z
UID:1750-1681376400-1681383600@www.theresilientveteran.org
SUMMARY:Working With Military Families & Their Unique Behavioral Health Needs
DESCRIPTION:This presentation will identify the unique behavioral health needs for military families. It will also provide techniques and interventions for the most effective ways to work with military families and how to support building resiliency. \nThursday\, April 13\, 2023 from 11:00 AM to 12:00 PM MDT – Online \nRegister online
URL:https://www.theresilientveteran.org/event/2023-04-13-900a/working-with-military-families-their-unique-behavioral-health-needs/
CATEGORIES:Panel Discussion,Professional Development,Virtual
ATTACH;FMTTYPE=image/jpeg:https://www.theresilientveteran.org/wp-content/uploads/2023/03/SummitBHC-MilFamilies.jpg
END:VEVENT
END:VCALENDAR