BEGIN:VCALENDAR
VERSION:2.0
PRODID:-//The Resilient Veteran - ECPv6.15.16//NONSGML v1.0//EN
CALSCALE:GREGORIAN
METHOD:PUBLISH
X-ORIGINAL-URL:https://www.theresilientveteran.org
X-WR-CALDESC:Events for The Resilient Veteran
REFRESH-INTERVAL;VALUE=DURATION:PT1H
X-Robots-Tag:noindex
X-PUBLISHED-TTL:PT1H
BEGIN:VTIMEZONE
TZID:America/New_York
BEGIN:DAYLIGHT
TZOFFSETFROM:-0500
TZOFFSETTO:-0400
TZNAME:EDT
DTSTART:20220313T070000
END:DAYLIGHT
BEGIN:STANDARD
TZOFFSETFROM:-0400
TZOFFSETTO:-0500
TZNAME:EST
DTSTART:20221106T060000
END:STANDARD
BEGIN:DAYLIGHT
TZOFFSETFROM:-0500
TZOFFSETTO:-0400
TZNAME:EDT
DTSTART:20230312T070000
END:DAYLIGHT
BEGIN:STANDARD
TZOFFSETFROM:-0400
TZOFFSETTO:-0500
TZNAME:EST
DTSTART:20231105T060000
END:STANDARD
BEGIN:DAYLIGHT
TZOFFSETFROM:-0500
TZOFFSETTO:-0400
TZNAME:EDT
DTSTART:20240310T070000
END:DAYLIGHT
BEGIN:STANDARD
TZOFFSETFROM:-0400
TZOFFSETTO:-0500
TZNAME:EST
DTSTART:20241103T060000
END:STANDARD
END:VTIMEZONE
BEGIN:VEVENT
DTSTART;TZID=America/New_York:20230426T120000
DTEND;TZID=America/New_York:20230426T140000
DTSTAMP:20260423T143808
CREATED:20230222T170435Z
LAST-MODIFIED:20230222T170435Z
UID:1694-1682510400-1682517600@www.theresilientveteran.org
SUMMARY:Building a Bridge to Veterans: Trust Centered Programs\, Mental Health & Moral Injury
DESCRIPTION:Building a Bridge to Veterans: Trust Centered Programs\, Mental Health & Moral Injury\nWednesday April 26th\, 2023\n12:00-2:00PM EST\n(11am CST • 10am MT • 9am PST) \nLocation: \nVirtual Presentation \nPresented By: \nAlia Schenck MA\, MSW\, LCSW-A \nDescription:\nA look at service delivery\, important principles of relational building and cultural awareness for Veterans and family members. This class wIll seek to discuss supporting veterans that have unique challenges including Traumatic Brain Injuries IBIs)\, Military Sexual Trauma (MST)\, Moral Injury\, and combat post-traumatic stress. Finally\, we will discuss lessons learned from establishing rapport with trust-centered programs and conducting self-assessment among providers. \nRegister online.
URL:https://www.theresilientveteran.org/event/2023-04-26-1200p/building-a-bridge-to-veterans-trust-centered-programs-mental-health-moral-injury/
CATEGORIES:Panel Discussion,Professional Development,Virtual
ATTACH;FMTTYPE=image/jpeg:https://www.theresilientveteran.org/wp-content/uploads/2023/02/SummitBHC-BuildingBridges-TC.jpg
END:VEVENT
END:VCALENDAR