BEGIN:VCALENDAR
VERSION:2.0
PRODID:-//The Resilient Veteran - ECPv6.15.16//NONSGML v1.0//EN
CALSCALE:GREGORIAN
METHOD:PUBLISH
X-WR-CALNAME:The Resilient Veteran
X-ORIGINAL-URL:https://www.theresilientveteran.org
X-WR-CALDESC:Events for The Resilient Veteran
REFRESH-INTERVAL;VALUE=DURATION:PT1H
X-Robots-Tag:noindex
X-PUBLISHED-TTL:PT1H
BEGIN:VTIMEZONE
TZID:America/New_York
BEGIN:DAYLIGHT
TZOFFSETFROM:-0500
TZOFFSETTO:-0400
TZNAME:EDT
DTSTART:20220313T070000
END:DAYLIGHT
BEGIN:STANDARD
TZOFFSETFROM:-0400
TZOFFSETTO:-0500
TZNAME:EST
DTSTART:20221106T060000
END:STANDARD
BEGIN:DAYLIGHT
TZOFFSETFROM:-0500
TZOFFSETTO:-0400
TZNAME:EDT
DTSTART:20230312T070000
END:DAYLIGHT
BEGIN:STANDARD
TZOFFSETFROM:-0400
TZOFFSETTO:-0500
TZNAME:EST
DTSTART:20231105T060000
END:STANDARD
BEGIN:DAYLIGHT
TZOFFSETFROM:-0500
TZOFFSETTO:-0400
TZNAME:EDT
DTSTART:20240310T070000
END:DAYLIGHT
BEGIN:STANDARD
TZOFFSETFROM:-0400
TZOFFSETTO:-0500
TZNAME:EST
DTSTART:20241103T060000
END:STANDARD
END:VTIMEZONE
BEGIN:VEVENT
DTSTART;TZID=America/New_York:20230919T170000
DTEND;TZID=America/New_York:20230919T193000
DTSTAMP:20260423T073628
CREATED:20230814T192835Z
LAST-MODIFIED:20230814T192835Z
UID:2139-1695142800-1695151800@www.theresilientveteran.org
SUMMARY:Viewing and Panel Discussion of My Ascension
DESCRIPTION:Join us for a viewing of My Ascension followed by a panel discussion. \nAt 16 years old Emma Benoit attempted to end her life. Through navigating the challenges of recovery\, she discovers purpose and passion in helping other struggling teens. My Ascension is the story of the day that changed Emma’s life\, and everything that’s happened since. \nWhen: September 19\, 2022 at 5:00pm\nWhere: Succop Theater\nButler County Community College\n107 College Dr\, Butler\, PA 16002\nPresented by the Butler County Suicide Coalition\, Butler VA Health Systems\, Clearfield-Jefferson Suicide Prevention Team\, and BC3 \nNo reservations necessary! Representatives from the NW PA Veteran Suicide Prevention Program will have an informational table at this event. Please stop by and say hello!
URL:https://www.theresilientveteran.org/event/2023-09-19-500p/viewing-and-panel-discussion-of-my-ascension/
CATEGORIES:Family-friendly,In-person,Panel Discussion
ATTACH;FMTTYPE=image/jpeg:https://www.theresilientveteran.org/wp-content/uploads/2023/08/My-Ascension-showing.jpg
END:VEVENT
END:VCALENDAR