BEGIN:VCALENDAR
VERSION:2.0
PRODID:-//The Resilient Veteran - ECPv6.15.16//NONSGML v1.0//EN
CALSCALE:GREGORIAN
METHOD:PUBLISH
X-ORIGINAL-URL:https://www.theresilientveteran.org
X-WR-CALDESC:Events for The Resilient Veteran
REFRESH-INTERVAL;VALUE=DURATION:PT1H
X-Robots-Tag:noindex
X-PUBLISHED-TTL:PT1H
BEGIN:VTIMEZONE
TZID:America/New_York
BEGIN:DAYLIGHT
TZOFFSETFROM:-0500
TZOFFSETTO:-0400
TZNAME:EDT
DTSTART:20220313T070000
END:DAYLIGHT
BEGIN:STANDARD
TZOFFSETFROM:-0400
TZOFFSETTO:-0500
TZNAME:EST
DTSTART:20221106T060000
END:STANDARD
BEGIN:DAYLIGHT
TZOFFSETFROM:-0500
TZOFFSETTO:-0400
TZNAME:EDT
DTSTART:20230312T070000
END:DAYLIGHT
BEGIN:STANDARD
TZOFFSETFROM:-0400
TZOFFSETTO:-0500
TZNAME:EST
DTSTART:20231105T060000
END:STANDARD
BEGIN:DAYLIGHT
TZOFFSETFROM:-0500
TZOFFSETTO:-0400
TZNAME:EDT
DTSTART:20240310T070000
END:DAYLIGHT
BEGIN:STANDARD
TZOFFSETFROM:-0400
TZOFFSETTO:-0500
TZNAME:EST
DTSTART:20241103T060000
END:STANDARD
END:VTIMEZONE
BEGIN:VEVENT
DTSTART;TZID=America/New_York:20230927T080000
DTEND;TZID=America/New_York:20230927T170000
DTSTAMP:20260423T062210
CREATED:20230823T135433Z
LAST-MODIFIED:20230823T135509Z
UID:2194-1695801600-1695834000@www.theresilientveteran.org
SUMMARY:Erie County Suicide Prevention Conference 2023
DESCRIPTION:Erie County Suicide Prevention Conference 2023\nDate and time: Wednesday\, September 27 · 8am – 4:45pm EDT \n\n\n\n\n\nLocation: Ambassador Hotel and Conference Center\, 7794 Peach St Erie\, PA 16509 \nRegister online. \n\n\n\n\n\nAbout this event\n\n\n\n\n“A Public Health Approach to Suicide Prevention: Recognizing and Supporting All Areas of Our Lives (based on the CDC’s Seven Suicide Prevention Strategies).” \nOur Keynote Speaker\, Matt Dorgan\, was born and raised in York\, Pennsylvania. It was after the loss of his daughter Brianna to suicide\, December 3\, 2020 that Matt decided that things need to change. Matt wanted to channel his grief into something positive for the community so others would not have to suffer the way Brianna suffered and so other parents would not have to suffer the grief of having to bury a child. In January 2021\, Matt started putting together an awareness and fundraising event called Building Bridges for Brianna. After several weeks Matt decided we need to build the bridge between people that need help and people that can provide help. That was when Matt realized that this cannot be an event\, it needs to be a movement and expanded the organization to reach as many people as he can. \nOther speakers represent various agencies and resources within the Erie community and serve to build a foundation for support\, intervention and suicide prevention in our own community. \nProgram Schedule: \nRegistration/Check-In : 8:00am-8:45amWelcome\, Introductions & Keynote: 8:45am -10:15amBREAK: 10:15am-10:30am \nBreakout Session 1 (will be selected on day of conference):11:00am – 12:00 pm \nOPTION 1A : “988 and Collaboration with Law Enforcement in Erie County” :Stacey Buettner & Tracy Carlini \nOPTION 1B : “Harm Reduction”: Cortney Elliot\, Sarah Suhan\, and Shannon Brown \nOPTION 1C: “Heroes Need Help Too”: Robin Archer and Pensiri Nuk Kongkaw-Oden \nLUNCH BUFFET (INC. WITH REGISTRATION):11:45am -12:45pmSurvivor Panel Discussion: 12:45pm -1:45pmBREAK: 1:45pm – 2:00pm \nBreakout 2: 2:00pm – 3:15pm \nOPTION 2a – “Suicide in a Chaotic World” – Govan MartinOPTION 2b – “We are Human\, Not Broken”- Kevin Berceli\, LPC\, NCC\, CPH\, CP-TRE\, CP-NLPOPTION 2c – “Parenting Skills to Improve Family Relations” – NAMIBREAK: 3:15pm – 3:30pm \nBreakout Session 3: 3:30pm – 4:45pm \nOPTION 3a – “Examining the Connections Between Substance Use and Risk Behaviors and Suicidal Ideations / Actions” – Dr. Amy Gallaher-Miles\, DO\, IBCLCOPTION 3b – “Assessing Suicidality/High Risk Among the Perinatal Population” – Diomarys Nunez\, LPC \nContinuing Education Information \nCertificates will be sent out via email – Total CE 5 hours \nContact Zachary Cathcart at cathcartz@upmc.edu with questions about continuing education information for this event. \nCEUs will be available for LSW/LCSW/LMFT\, ACT 48\, ANCC/AMA\, EMS \nScholarship Information:Please note there are a limited number of scholarships available\, made possible by a generous donation from Erie County Department of Health and Human Services. Anyone with financial need is encouraged to attend. Interested individuals may reach out to Sharon Sandberg at sandbergs@upmc.edu or 814-835-2953. \nWe strongly encourage anyone interested in a scholarship to apply by preparing a one page essay detailing why it is important for you to attend this conference and the importance of community suicide prevention. Essays can be emailed directly to Sharon Sandberg at sandbergs@upmc.edu.
URL:https://www.theresilientveteran.org/event/2023-09-27-800a/erie-county-suicide-prevention-conference-2023/
CATEGORIES:In-person,Panel Discussion,Professional Development
ATTACH;FMTTYPE=image/jpeg:https://www.theresilientveteran.org/wp-content/uploads/2023/08/https-__cdn.evbuc_.com_images_577480999_266602194664_1_original.jpg
END:VEVENT
END:VCALENDAR