BEGIN:VCALENDAR
VERSION:2.0
PRODID:-//The Resilient Veteran - ECPv6.15.16//NONSGML v1.0//EN
CALSCALE:GREGORIAN
METHOD:PUBLISH
X-WR-CALNAME:The Resilient Veteran
X-ORIGINAL-URL:https://www.theresilientveteran.org
X-WR-CALDESC:Events for The Resilient Veteran
REFRESH-INTERVAL;VALUE=DURATION:PT1H
X-Robots-Tag:noindex
X-PUBLISHED-TTL:PT1H
BEGIN:VTIMEZONE
TZID:America/New_York
BEGIN:DAYLIGHT
TZOFFSETFROM:-0500
TZOFFSETTO:-0400
TZNAME:EDT
DTSTART:20230312T070000
END:DAYLIGHT
BEGIN:STANDARD
TZOFFSETFROM:-0400
TZOFFSETTO:-0500
TZNAME:EST
DTSTART:20231105T060000
END:STANDARD
BEGIN:DAYLIGHT
TZOFFSETFROM:-0500
TZOFFSETTO:-0400
TZNAME:EDT
DTSTART:20240310T070000
END:DAYLIGHT
BEGIN:STANDARD
TZOFFSETFROM:-0400
TZOFFSETTO:-0500
TZNAME:EST
DTSTART:20241103T060000
END:STANDARD
BEGIN:DAYLIGHT
TZOFFSETFROM:-0500
TZOFFSETTO:-0400
TZNAME:EDT
DTSTART:20250309T070000
END:DAYLIGHT
BEGIN:STANDARD
TZOFFSETFROM:-0400
TZOFFSETTO:-0500
TZNAME:EST
DTSTART:20251102T060000
END:STANDARD
END:VTIMEZONE
BEGIN:VEVENT
DTSTART;TZID=America/New_York:20240130T080000
DTEND;TZID=America/New_York:20240131T160000
DTSTAMP:20260423T014519
CREATED:20231213T211832Z
LAST-MODIFIED:20231213T211900Z
UID:2477-1706601600-1706716800@www.theresilientveteran.org
SUMMARY:ASIST Training in Pittsburgh
DESCRIPTION:ASIST Training: Applied Suicide Intervention Skills Training \nJanuary 30-31\, 2024 8 AM – 4 PM (both days) \nHosted by: Veterans Leadership Program\n2934 Smallman Street\, Pittsburgh\, PA \nCost: FREE \nLearn the skills. Suicide is Preventable. Help save a life. \n** Free CEUs will be provided in EMS/LSW/LPC/LMFT from UPMC. \nQuestions? Call 878-208-8186 or email pag109@pitt.edu \nRegister using the QR code or https://rb.gy/j4oea \nASIST is a two-day\, highly participatory workshop in which participants learn to use a suicide intervention model to identify individuals with thoughts of suicide\, seek a shared understanding of reasons for dying and living\, develop a safety plan based upon a review of risk\, and learn how to provide active follow-up. \n\nRecognize that caregivers and persons at risk are affected by personal and societal attitudes about suicide.\nDiscuss suicide in a direct manner with someone at risk.\nIdentify risk alerts and develop related safety plans.\nDemonstrate the skills required to intervene with a person at risk of suicide.\nList the types of resources available to a person at risk\, including themselves.\nMake a commitment to improving community resources.\nRecognize that suicide prevention is broader than suicide first-aid and includes life promotion and self-care for caregivers.\n\n 
URL:https://www.theresilientveteran.org/event/2024-01-30-800a/asist-training-in-pittsburgh/
CATEGORIES:In-person,Professional Development
ATTACH;FMTTYPE=image/jpeg:https://www.theresilientveteran.org/wp-content/uploads/2023/12/Jan2024_VLP-1-scaled.jpg
END:VEVENT
BEGIN:VEVENT
DTSTART;TZID=America/New_York:20240130T120000
DTEND;TZID=America/New_York:20240130T133000
DTSTAMP:20260423T014519
CREATED:20240125T153515Z
LAST-MODIFIED:20240125T153515Z
UID:2575-1706616000-1706621400@www.theresilientveteran.org
SUMMARY:Treating Comorbid PTSD and Substance Use Disorder
DESCRIPTION:Treating Comorbid PTSD and Substance Use Disorder\nJanuary 30\, 2024\n9:00-10:30 am Pacific\n10am MT – 11am CT – 12pm ET\nLocation: \nVirtual location \nYou will receive a confirmation email with a URL. \nRegister online \nPresented by:\nSonya B. Norman\, PhD \nDescription: \nPosttraumatic stress disorder (PTSD) rarely occurs on its own yet comorbid conditions can complicate treatment and impact treatment outcomes. In this lecture\, we will learn about two common co-occurring conditions. We will discuss the comorbidity of PTSD and substance use disorder (SUD). SUD is one of the most prevalent comorbidities among those with PTSD. Topics will include why these two disorders often co-occur and how those who have both differ from those who have either PTSD or SUD in terms of their physical and mental health and treatment outcomes. We will review research on how to effectively treat those who have both PTSD and SUD. The focus of the lecture will be on clinical strategies to use when treating clients who have PTSD+SUD. \nMore Information Contact: \nOrganizer: Katie Stenger\, (716) 673-5017
URL:https://www.theresilientveteran.org/event/2024-01-30-1200p/treating-comorbid-ptsd-and-substance-use-disorder/
CATEGORIES:Professional Development,Virtual
ATTACH;FMTTYPE=image/jpeg:https://www.theresilientveteran.org/wp-content/uploads/2024/01/tactical-recovery.jpg
END:VEVENT
END:VCALENDAR